BEGIN:VCALENDAR
VERSION:2.0
PRODID:-//Armonie della Sera - ECPv5.16.2//NONSGML v1.0//EN
CALSCALE:GREGORIAN
METHOD:PUBLISH
X-WR-CALNAME:Armonie della Sera
X-ORIGINAL-URL:https://www.armoniedellasera.it
X-WR-CALDESC:Eventi per Armonie della Sera
BEGIN:VTIMEZONE
TZID:Europe/Rome
BEGIN:DAYLIGHT
TZOFFSETFROM:+0100
TZOFFSETTO:+0200
TZNAME:CEST
DTSTART:20210328T010000
END:DAYLIGHT
BEGIN:STANDARD
TZOFFSETFROM:+0200
TZOFFSETTO:+0100
TZNAME:CET
DTSTART:20211031T010000
END:STANDARD
END:VTIMEZONE
BEGIN:VEVENT
DTSTART;TZID=Europe/Rome:20211223T203000
DTEND;TZID=Europe/Rome:20211223T203000
DTSTAMP:20260422T111351
CREATED:20210713T204229Z
LAST-MODIFIED:20260327T222640Z
UID:4434-1640291400-1640291400@www.armoniedellasera.it
SUMMARY:Sollini & Friends
DESCRIPTION:Marco Sollini pianoforte\nSalvatore Barbatano pianoforte\nGilda Buttà pianoforte\nMonica Carletti mezzosoprano\nMarcella Crudeli pianoforte\nLuca Pincini violoncello\nPaola Pitagora voce recitante\nValentina Varriale soprano\nValerio Vicari noce narrante\n\nPresenta Valentina Lo Surdo \nMusiche di M. Sollini. \nIn collaborazione con Roma Tre Orchestra \nINGRESSO A PAGAMENTO 12\,50 €
URL:https://www.armoniedellasera.it/event/sollini-friends/
LOCATION:ROMA | Teatro di Villa Torlonia\, Via Lazzaro Spallanzani\, 1A\, Roma\, RM\, 00161\, Italia
CATEGORIES:Edizione 2021
ATTACH;FMTTYPE=image/jpeg:https://www.armoniedellasera.it/wp-content/uploads/2021/07/sollini.jpg
END:VEVENT
END:VCALENDAR