BEGIN:VCALENDAR
VERSION:2.0
PRODID:-//Armonie della Sera - ECPv5.16.2//NONSGML v1.0//EN
CALSCALE:GREGORIAN
METHOD:PUBLISH
X-WR-CALNAME:Armonie della Sera
X-ORIGINAL-URL:https://www.armoniedellasera.it
X-WR-CALDESC:Eventi per Armonie della Sera
BEGIN:VTIMEZONE
TZID:UTC
BEGIN:STANDARD
TZOFFSETFROM:+0000
TZOFFSETTO:+0000
TZNAME:UTC
DTSTART:20240101T000000
END:STANDARD
END:VTIMEZONE
BEGIN:VEVENT
DTSTART;TZID=UTC:20240621T200000
DTEND;TZID=UTC:20240621T200000
DTSTAMP:20260422T100430
CREATED:20240424T101747Z
LAST-MODIFIED:20260327T222628Z
UID:5304-1719000000-1719000000@www.armoniedellasera.it
SUMMARY:Tre suite a quattro mani
DESCRIPTION:Duo Sollini & Barbatano\, pianoforte a 4 mani\n\nMusiche di G. Fauré\, C. Debussy\, M. Sollini
URL:https://www.armoniedellasera.it/event/sollini-barbatano-8/
LOCATION:TRIESTE | Castello di Miramare – Sala del Trono\, Viale Miramare\, Trieste\, Trieste\, 34151\, Italia
CATEGORIES:Edizione 2024,Serie Apollo 2024
ATTACH;FMTTYPE=image/jpeg:https://www.armoniedellasera.it/wp-content/uploads/2024/04/Giugno-21.jpg
END:VEVENT
END:VCALENDAR