BEGIN:VCALENDAR
VERSION:2.0
PRODID:-//Armonie della Sera - ECPv5.16.2//NONSGML v1.0//EN
CALSCALE:GREGORIAN
METHOD:PUBLISH
X-WR-CALNAME:Armonie della Sera
X-ORIGINAL-URL:https://www.armoniedellasera.it
X-WR-CALDESC:Eventi per Armonie della Sera
BEGIN:VTIMEZONE
TZID:Europe/Rome
BEGIN:DAYLIGHT
TZOFFSETFROM:+0100
TZOFFSETTO:+0200
TZNAME:CEST
DTSTART:20100328T010000
END:DAYLIGHT
BEGIN:STANDARD
TZOFFSETFROM:+0200
TZOFFSETTO:+0100
TZNAME:CET
DTSTART:20101031T010000
END:STANDARD
END:VTIMEZONE
BEGIN:VEVENT
DTSTART;TZID=Europe/Rome:20100805T211500
DTEND;TZID=Europe/Rome:20100805T233000
DTSTAMP:20260424T021455
CREATED:20100213T080603Z
LAST-MODIFIED:20100213T080603Z
UID:3960-1281042900-1281051000@www.armoniedellasera.it
SUMMARY:Sergio e Claudio Zampetti
DESCRIPTION:Sergio Zampetti\, flauto\nClaudio Zampetti\, pianoforte\n\nin collaborazione con Festival Suoni dal Tempo \nPROGRAMMA\nJohann Sebastian BACH (1685 – 1750)\nSonata in mi maggiore BWV 1035\n• Adagio ma non tanto\n• Allegro\n• Siciliana\n• Allegro assai \nWolfgang Amadeus MOZART (1756 – 1791)\nSonata in sol maggiore K. 301\n• Allegro con spirito\n• Allegro \nRobert SCHUMANN (1810 – 1856)\n3 Romanze op. 94\n• Nicht schnell\n• Einfach\, innig\n• Nicht schnell \nPhilippe GAUBERT (1879 – 1941)\nNotturno e Allegretto scherzando \nPhilippe GAUBERT (1879 – 1941)\nBerceuse \nGeorge ENESCU (1881 – 1955)\nCantabile e Presto \nPhilippe GAUBERT (1879 – 1941)\nNotturno e Allegretto scherzando \nFrancis POULENC (1899 – 1963)\nSonata\n• Allegretto malinconico\n• Cantilena. Assez lent\n• Presto giocoso \nGiulio BRICCIALDI (1818 – 1881)\nVariazioni sul Carnevale di Venezia
URL:https://www.armoniedellasera.it/event/sergio-e-claudio-zampetti/
CATEGORIES:Edizione 2010
ATTACH;FMTTYPE=image/jpeg:https://www.armoniedellasera.it/wp-content/uploads/2010/02/5-agosto-2010.jpg
END:VEVENT
END:VCALENDAR