BEGIN:VCALENDAR
VERSION:2.0
PRODID:-//Armonie della Sera - ECPv5.16.2//NONSGML v1.0//EN
CALSCALE:GREGORIAN
METHOD:PUBLISH
X-WR-CALNAME:Armonie della Sera
X-ORIGINAL-URL:https://www.armoniedellasera.it
X-WR-CALDESC:Eventi per Armonie della Sera
BEGIN:VTIMEZONE
TZID:UTC
BEGIN:STANDARD
TZOFFSETFROM:+0000
TZOFFSETTO:+0000
TZNAME:UTC
DTSTART:20240101T000000
END:STANDARD
END:VTIMEZONE
BEGIN:VEVENT
DTSTART;TZID=UTC:20240812T211500
DTEND;TZID=UTC:20240812T211500
DTSTAMP:20260422T100732
CREATED:20240424T121142Z
LAST-MODIFIED:20260327T222627Z
UID:5357-1723497300-1723497300@www.armoniedellasera.it
SUMMARY:Sacha De Ritis / Patrick De Ritis / Michela De Amicis
DESCRIPTION:Sacha De Ritis\, flauto\nPatrick De Ritis\, fagotto\nMichela De Amicis\, pianoforte\n\nMusiche di Triebert/Jancourt\, Morlacchi/Torriani\, Demersseman/Berthelemy
URL:https://www.armoniedellasera.it/event/sacha-de-ritis-patrick-de-ritis-michela-de-amicis/
LOCATION:PONZANO DI FERMO (FM) | Chiesa di San Marco\, Strada Provinciale 66\, Ponzano di FermO\, FM\, 63845\, Italia
CATEGORIES:Edizione 2024,Serie Apollo 2024
ATTACH;FMTTYPE=image/jpeg:https://www.armoniedellasera.it/wp-content/uploads/2024/04/Agosto-12.jpg
END:VEVENT
END:VCALENDAR