BEGIN:VCALENDAR
VERSION:2.0
PRODID:-//Armonie della Sera - ECPv5.16.2//NONSGML v1.0//EN
CALSCALE:GREGORIAN
METHOD:PUBLISH
X-WR-CALNAME:Armonie della Sera
X-ORIGINAL-URL:https://www.armoniedellasera.it
X-WR-CALDESC:Eventi per Armonie della Sera
BEGIN:VTIMEZONE
TZID:Europe/Helsinki
BEGIN:DAYLIGHT
TZOFFSETFROM:+0200
TZOFFSETTO:+0300
TZNAME:EEST
DTSTART:20230326T010000
END:DAYLIGHT
BEGIN:STANDARD
TZOFFSETFROM:+0300
TZOFFSETTO:+0200
TZNAME:EET
DTSTART:20231029T010000
END:STANDARD
END:VTIMEZONE
BEGIN:VEVENT
DTSTART;TZID=Europe/Helsinki:20230527T210000
DTEND;TZID=Europe/Helsinki:20230527T233000
DTSTAMP:20260420T100616
CREATED:20230420T134046Z
LAST-MODIFIED:20260327T222636Z
UID:5066-1685221200-1685230200@www.armoniedellasera.it
SUMMARY:Marco Sollini & Salvatore Barbatano
DESCRIPTION:Marco Sollini e Salvatore Barbatano\, due pianoforti\n\nMusiche di S. Rachmaninov
URL:https://www.armoniedellasera.it/event/marco-sollini-salvatore-barbatano/
LOCATION:CORTONA (AR) | Teatro Signorelli\, Piazza Luca Signorelli\, Cortona\, AR\, 52044
CATEGORIES:Edizione 2023,Serie Apollo
ATTACH;FMTTYPE=image/jpeg:https://www.armoniedellasera.it/wp-content/uploads/2022/04/sollini-barbatano.jpg
END:VEVENT
END:VCALENDAR