BEGIN:VCALENDAR
VERSION:2.0
PRODID:-//Armonie della Sera - ECPv5.16.2//NONSGML v1.0//EN
CALSCALE:GREGORIAN
METHOD:PUBLISH
X-WR-CALNAME:Armonie della Sera
X-ORIGINAL-URL:https://www.armoniedellasera.it
X-WR-CALDESC:Eventi per Armonie della Sera
BEGIN:VTIMEZONE
TZID:Europe/Rome
BEGIN:DAYLIGHT
TZOFFSETFROM:+0100
TZOFFSETTO:+0200
TZNAME:CEST
DTSTART:20210328T010000
END:DAYLIGHT
BEGIN:STANDARD
TZOFFSETFROM:+0200
TZOFFSETTO:+0100
TZNAME:CET
DTSTART:20211031T010000
END:STANDARD
END:VTIMEZONE
BEGIN:VEVENT
DTSTART;TZID=Europe/Rome:20211120T203000
DTEND;TZID=Europe/Rome:20211120T203000
DTSTAMP:20260422T103001
CREATED:20210713T203924Z
LAST-MODIFIED:20260327T222642Z
UID:4431-1637440200-1637440200@www.armoniedellasera.it
SUMMARY:Larrieu / Nova / Sollini / Barbatano
DESCRIPTION:MAXENCE LARRIEU  flauto\nGIUSEPPE NOVA  flauto\nMARCO SOLLINI  pianoforte\nSALVATORE BARBATANO  pianoforte\n\nMusiche di F. Poulenc\, C. Saint-Saëns\, C. Debussy \nINGRESSO A PAGAMENTO 12\,50 €
URL:https://www.armoniedellasera.it/event/larrieu-nova-sollini-barbatano-2/
LOCATION:ALBA (CN) | Teatro Sociale\, Piazza Vittorio Veneto\, 3\,\, Alba\, CN\, 12151\, Italia
CATEGORIES:Edizione 2021
ATTACH;FMTTYPE=image/jpeg:https://www.armoniedellasera.it/wp-content/uploads/2021/07/18-novembre.jpg
END:VEVENT
END:VCALENDAR