BEGIN:VCALENDAR
VERSION:2.0
PRODID:-//Armonie della Sera - ECPv5.16.2//NONSGML v1.0//EN
CALSCALE:GREGORIAN
METHOD:PUBLISH
X-WR-CALNAME:Armonie della Sera
X-ORIGINAL-URL:https://www.armoniedellasera.it
X-WR-CALDESC:Eventi per Armonie della Sera
BEGIN:VTIMEZONE
TZID:UTC
BEGIN:STANDARD
TZOFFSETFROM:+0000
TZOFFSETTO:+0000
TZNAME:UTC
DTSTART:20240101T000000
END:STANDARD
END:VTIMEZONE
BEGIN:VEVENT
DTSTART;TZID=UTC:20240814T211500
DTEND;TZID=UTC:20240814T211500
DTSTAMP:20260422T100607
CREATED:20240424T122033Z
LAST-MODIFIED:20260327T222627Z
UID:5362-1723670100-1723670100@www.armoniedellasera.it
SUMMARY:Giovanna Mambrini / Davide Gaspari / Silvia Sciolla
DESCRIPTION:Giovanna Mambrini\, flauto\nDavide Gaspari\, violino\nSilvia Sciolla\, violoncello\n\nMusiche di J.F. Haendel\, A. Vivaldi\, F.J. Haydn
URL:https://www.armoniedellasera.it/event/giovanni-mareggini-davide-gaspari-silvia-sciolla/
LOCATION:SERRA SANT’ABBONDIO (PU) | Monastero di Fonte Avellana\, Località Fonte Avellana\, 1\, Serra Sant'Abbondio\, PU\, 61040\, Italia
CATEGORIES:Edizione 2024,Serie Apollo 2024
ATTACH;FMTTYPE=image/jpeg:https://www.armoniedellasera.it/wp-content/uploads/2024/04/Agosto-14-1.jpg
END:VEVENT
END:VCALENDAR